BEGIN:VCALENDAR
VERSION:2.0
PRODID:-//Squarespace Inc/Squarespace 6//v6//EN
BEGIN:VEVENT
UID:5727bac3f85082553c50557f@squarespace.com
DTSTAMP:20160502T203914Z
DTSTART:20160819T053000Z
DTEND:20160820T073000Z
SUMMARY:Food Truck Friday
END:VEVENT
END:VCALENDAR
