BEGIN:VCALENDAR
VERSION:2.0
PRODID:-//Squarespace Inc/Squarespace 6//v6//EN
BEGIN:VEVENT
UID:5727ba8059827eb00d932e76@squarespace.com
DTSTAMP:20160502T203818Z
DTSTART:20160708T053000Z
DTEND:20160708T073000Z
SUMMARY:Food Truck Friday 
END:VEVENT
END:VCALENDAR
