BEGIN:VCALENDAR
VERSION:2.0
PRODID:-//Squarespace Inc/Squarespace 6//v6//EN
BEGIN:VEVENT
UID:5757a72b746fb905b4091bb4@squarespace.com
DTSTAMP:20160608T050404Z
DTSTART:20160624T053000Z
DTEND:20160624T073000Z
SUMMARY:Food Truck Friday
END:VEVENT
END:VCALENDAR
