BEGIN:VCALENDAR
VERSION:2.0
PRODID:-//Squarespace Inc/Squarespace 6//v6//EN
BEGIN:VEVENT
UID:5727b8e6c2ea515f1a12501c@squarespace.com
DTSTAMP:20160502T203135Z
DTSTART:20160617T053000Z
DTEND:20160617T073000Z
SUMMARY:Food Truck Friday
END:VEVENT
END:VCALENDAR
