BEGIN:VCALENDAR
VERSION:2.0
PRODID:-//Squarespace Inc/Squarespace 6//v6//EN
BEGIN:VEVENT
UID:5725b8858259b57662082262@squarespace.com
DTSTAMP:20160502T203335Z
DTSTART:20160513T053000Z
DTEND:20160513T072959Z
SUMMARY:Food Truck Friday
GEO:-37.687797;176.16513
LOCATION:RPM\, Tauranga\, Bay of Plenty\, New Zealand
END:VEVENT
END:VCALENDAR
