BEGIN:VCALENDAR
VERSION:2.0
PRODID:-//Squarespace Inc/Squarespace 6//v6//EN
BEGIN:VEVENT
UID:5604ab0de4b0be7e3d4d803a@squarespace.com
DTSTAMP:20150925T041224Z
DTSTART:20150925T060000Z
DTEND:20150925T080000Z
SUMMARY:PRIVATE  [RMLA Conference]
END:VEVENT
END:VCALENDAR
