BEGIN:VCALENDAR
VERSION:2.0
PRODID:-//Squarespace Inc/Squarespace 6//v6//EN
BEGIN:VEVENT
UID:5604ab77e4b09abd960bff50@squarespace.com
DTSTAMP:20150925T023012Z
DTSTART:20150911T053000Z
DTEND:20150911T073000Z
SUMMARY:FOOD TRUCK FRIDAY
GEO:-37.654404;176.197408
LOCATION:RPM\, 5 Hull Road\, Tauranga\, Bay Of Plenty\, 3116\, New Zealand
END:VEVENT
END:VCALENDAR
