BEGIN:VCALENDAR
VERSION:2.0
PRODID:-//Squarespace Inc/Squarespace 6//v6//EN
BEGIN:VEVENT
UID:5604a8d1e4b0ba7911a061e1@squarespace.com
DTSTAMP:20150925T022906Z
DTSTART:20150828T053000Z
DTEND:20150828T073000Z
SUMMARY:FOOD TRUCK FRIDAY
GEO:-37.654404;176.197408
LOCATION:RPM\, 5 Hull Road\, Tauranga\, Bay Of Plenty\, 3116\, New Zealand
END:VEVENT
END:VCALENDAR
