BEGIN:VCALENDAR
VERSION:2.0
PRODID:-//Squarespace Inc/Squarespace 6//v6//EN
BEGIN:VEVENT
UID:55b701dde4b0e7b01e3b3b33@squarespace.com
DTSTAMP:20150728T043604Z
DTSTART:20150731T053000Z
DTEND:20150731T073000Z
SUMMARY:FOOD TRUCK FRIDAY
GEO:-37.654404;176.197408
LOCATION:RPM\, 5 Hull Rd\, Tauranga\, Bay Of Plenty\, 3116\, New Zealand
END:VEVENT
END:VCALENDAR
