BEGIN:VCALENDAR
VERSION:2.0
PRODID:-//Squarespace Inc/Squarespace 6//v6//EN
BEGIN:VEVENT
UID:55b70469e4b0da1a567be317@squarespace.com
DTSTAMP:20150728T042708Z
DTSTART:20150717T053000Z
DTEND:20150717T073000Z
SUMMARY:FOOD TRUCK FRIDAY
GEO:-37.654404;176.197408
LOCATION:RPM\, 5 Hull Rd\, Tauranga\, Bay Of Plenty\, 3116\, New Zealand
END:VEVENT
END:VCALENDAR
