BEGIN:VCALENDAR
VERSION:2.0
PRODID:-//Squarespace Inc/Squarespace 6//v6//EN
BEGIN:VEVENT
UID:557a504fe4b064e7f04edd19@squarespace.com
DTSTAMP:20150728T041712Z
DTSTART:20150619T053000Z
DTEND:20150619T073000Z
SUMMARY:FOOD TRUCK FRIDAY
GEO:-37.654404;176.197408
LOCATION:FOOD TRUCK FRIDAY\, 5 Hull Rd\, Tauranga\, Bay Of Plenty\, 3116\, 
 New Zealand
END:VEVENT
END:VCALENDAR
