BEGIN:VCALENDAR
VERSION:2.0
PRODID:-//Squarespace Inc/Squarespace 6//v6//EN
BEGIN:VEVENT
UID:565ff5d9e4b071b015386f5e@squarespace.com
DTSTAMP:20151203T080400Z
DTSTART:20151205T060000Z
DTEND:20151205T090000Z
SUMMARY:Private Function- Wedding
END:VEVENT
END:VCALENDAR
