BEGIN:VCALENDAR
VERSION:2.0
PRODID:-//Squarespace Inc/Squarespace 6//v6//EN
BEGIN:VEVENT
UID:565d5790e4b0134bf7c8fbb6@squarespace.com
DTSTAMP:20151203T075431Z
DTSTART:20151204T043000Z
DTEND:20151204T083000Z
SUMMARY:Gourmet Night Market
GEO:-37.638654;176.183627
LOCATION:Mount Maunganui\, New Zealand
END:VEVENT
END:VCALENDAR
