BEGIN:VCALENDAR
VERSION:2.0
PRODID:-//Squarespace Inc/Squarespace 6//v6//EN
BEGIN:VEVENT
UID:56062d75e4b0cf5d6b4b9166@squarespace.com
DTSTAMP:20150926T053220Z
DTSTART:20151225T050000Z
DTEND:20151225T060000Z
SUMMARY:Death Valley Brewing Co
GEO:-37.693291;176.149617
LOCATION:Death Valley Brewing Co\, 65A Churchill Road\, Tauranga\, Bay Of P
 lenty\, 3110\, New Zealand
END:VEVENT
END:VCALENDAR
