BEGIN:VCALENDAR
VERSION:2.0
PRODID:-//Squarespace Inc/Squarespace 6//v6//EN
BEGIN:VEVENT
UID:565ff891e4b01b753bfb0d3f@squarespace.com
DTSTAMP:20151203T081048Z
DTSTART:20151222T050000Z
DTEND:20151222T090000Z
SUMMARY:Private Function
END:VEVENT
END:VCALENDAR
