BEGIN:VCALENDAR
VERSION:2.0
PRODID:-//Squarespace Inc/Squarespace 6//v6//EN
BEGIN:VEVENT
UID:565ff9b8e4b0d9b44abce198@squarespace.com
DTSTAMP:20151203T081442Z
DTSTART:20151218T043000Z
DTEND:20151218T083000Z
SUMMARY:Gourmet Night Market
GEO:-37.638654;176.183627
LOCATION:Mount Maunganui\, New Zealand
END:VEVENT
END:VCALENDAR
