BEGIN:VCALENDAR
VERSION:2.0
PRODID:-//Squarespace Inc/Squarespace 6//v6//EN
BEGIN:VEVENT
UID:565ff93de4b0d9b44abcdfe9@squarespace.com
DTSTAMP:20151203T081306Z
DTSTART:20151217T040000Z
DTEND:20151217T080000Z
SUMMARY:Dinner In The Domain
GEO:-37.707596;176.284754
LOCATION:Domain Road\, Papamoa\, Bay Of Plenty\, New Zealand
END:VEVENT
END:VCALENDAR
