BEGIN:VCALENDAR
VERSION:2.0
PRODID:-//Squarespace Inc/Squarespace 6//v6//EN
BEGIN:VEVENT
UID:565ff80ae4b0b44fe6b86dbd@squarespace.com
DTSTAMP:20151203T080825Z
DTSTART:20151214T060000Z
DTEND:20151214T090000Z
SUMMARY:Private Function
END:VEVENT
END:VCALENDAR
