BEGIN:VCALENDAR
VERSION:2.0
PRODID:-//Squarespace Inc/Squarespace 6//v6//EN
BEGIN:VEVENT
UID:565ff78be4b0a09598e5581f@squarespace.com
DTSTAMP:20151203T080529Z
DTSTART:20151211T043000Z
DTEND:20151211T083000Z
SUMMARY:Gourmet Night Market
GEO:-37.638654;176.183627
LOCATION:Mount Maunganui\, New Zealand
END:VEVENT
END:VCALENDAR
