BEGIN:VCALENDAR
VERSION:2.0
PRODID:-//Squarespace Inc/Squarespace 6//v6//EN
BEGIN:VEVENT
UID:5604ca2ce4b00047c4ea3d7c@squarespace.com
DTSTAMP:20150925T041504Z
DTSTART:20151106T053000Z
DTEND:20151106T073000Z
SUMMARY:WEDDING
END:VEVENT
END:VCALENDAR
