BEGIN:VCALENDAR
VERSION:2.0
PRODID:-//Squarespace Inc/Squarespace 6//v6//EN
BEGIN:VEVENT
UID:5604cacae4b0c85e10b77d8b@squarespace.com
DTSTAMP:20150925T041753Z
DTSTART:20151114T053000Z
DTEND:20151114T073000Z
SUMMARY:WEDDING
END:VEVENT
END:VCALENDAR
