BEGIN:VCALENDAR
VERSION:2.0
PRODID:-//Squarespace Inc/Squarespace 6//v6//EN
BEGIN:VEVENT
UID:5604ca53e4b07f7a3e2b8e67@squarespace.com
DTSTAMP:20150925T041548Z
DTSTART:20151113T053000Z
DTEND:20151113T073000Z
SUMMARY:WEDDING
END:VEVENT
END:VCALENDAR
