BEGIN:VCALENDAR
VERSION:2.0
PRODID:-//Squarespace Inc/Squarespace 6//v6//EN
BEGIN:VEVENT
UID:5604b1e3e4b074d62d876081@squarespace.com
DTSTAMP:20160608T050820Z
DTSTART:20151009T043000Z
DTEND:20151009T063000Z
SUMMARY:FOOD TRUCK FRIDAY
GEO:-37.654404;176.197408
LOCATION:RPM\, 5 Hull Road\, Tauranga\, Bay Of Plenty\, 3116\, New Zealand
END:VEVENT
END:VCALENDAR
