BEGIN:VCALENDAR
VERSION:2.0
PRODID:-//Squarespace Inc/Squarespace 6//v6//EN
BEGIN:VEVENT
UID:5604b23ce4b0e847ef094171@squarespace.com
DTSTAMP:20150925T041242Z
DTSTART:20151002T043000Z
DTEND:20151002T063000Z
SUMMARY:PRIVATE [Signature Homes]
END:VEVENT
END:VCALENDAR
