BEGIN:VCALENDAR
VERSION:2.0
PRODID:-//Squarespace Inc/Squarespace 6//v6//EN
BEGIN:VEVENT
UID:5604c9d7e4b074d62d87e2a1@squarespace.com
DTSTAMP:20150925T041350Z
DTSTART:20151010T043000Z
DTEND:20151010T063000Z
SUMMARY:WEDDING [Old Forest School]
END:VEVENT
END:VCALENDAR
